BEGIN:VCALENDAR
VERSION:2.0
PRODID:-//Arbor Heights PTSA - ECPv6.15.20//NONSGML v1.0//EN
CALSCALE:GREGORIAN
METHOD:PUBLISH
X-WR-CALNAME:Arbor Heights PTSA
X-ORIGINAL-URL:https://arborheightsptsa.org
X-WR-CALDESC:Events for Arbor Heights PTSA
REFRESH-INTERVAL;VALUE=DURATION:PT1H
X-Robots-Tag:noindex
X-PUBLISHED-TTL:PT1H
BEGIN:VTIMEZONE
TZID:America/Los_Angeles
BEGIN:DAYLIGHT
TZOFFSETFROM:-0800
TZOFFSETTO:-0700
TZNAME:PDT
DTSTART:20180311T100000
END:DAYLIGHT
BEGIN:STANDARD
TZOFFSETFROM:-0700
TZOFFSETTO:-0800
TZNAME:PST
DTSTART:20181104T090000
END:STANDARD
BEGIN:DAYLIGHT
TZOFFSETFROM:-0800
TZOFFSETTO:-0700
TZNAME:PDT
DTSTART:20190310T100000
END:DAYLIGHT
BEGIN:STANDARD
TZOFFSETFROM:-0700
TZOFFSETTO:-0800
TZNAME:PST
DTSTART:20191103T090000
END:STANDARD
BEGIN:DAYLIGHT
TZOFFSETFROM:-0800
TZOFFSETTO:-0700
TZNAME:PDT
DTSTART:20200308T100000
END:DAYLIGHT
BEGIN:STANDARD
TZOFFSETFROM:-0700
TZOFFSETTO:-0800
TZNAME:PST
DTSTART:20201101T090000
END:STANDARD
BEGIN:DAYLIGHT
TZOFFSETFROM:-0800
TZOFFSETTO:-0700
TZNAME:PDT
DTSTART:20210314T100000
END:DAYLIGHT
BEGIN:STANDARD
TZOFFSETFROM:-0700
TZOFFSETTO:-0800
TZNAME:PST
DTSTART:20211107T090000
END:STANDARD
END:VTIMEZONE
BEGIN:VEVENT
DTSTART;VALUE=DATE:20200504
DTEND;VALUE=DATE:20200509
DTSTAMP:20260421T194656
CREATED:20190918T221801Z
LAST-MODIFIED:20190918T221801Z
UID:504-1588550400-1588982399@arborheightsptsa.org
SUMMARY:Staff Appreciation Week
DESCRIPTION:
URL:https://arborheightsptsa.org/event/staff-appreciation-week/
LOCATION:WA
END:VEVENT
BEGIN:VEVENT
DTSTART;TZID=America/Los_Angeles:20200319T190000
DTEND;TZID=America/Los_Angeles:20200319T203000
DTSTAMP:20260421T194656
CREATED:20190918T222856Z
LAST-MODIFIED:20200316T062345Z
UID:510-1584644400-1584649800@arborheightsptsa.org
SUMMARY:CANCELLED!  -- General Meeting
DESCRIPTION:
URL:https://arborheightsptsa.org/event/general-meeting-3/
LOCATION:Arbor Heights Library\, 3701 SW 104th Street\, Seattle\, WA\, 98146\, United States
END:VEVENT
BEGIN:VEVENT
DTSTART;TZID=America/Los_Angeles:20200313T170000
DTEND;TZID=America/Los_Angeles:20200313T170000
DTSTAMP:20260421T194656
CREATED:20190918T221709Z
LAST-MODIFIED:20200316T062310Z
UID:502-1584118800-1584118800@arborheightsptsa.org
SUMMARY:POSTPONED!  -  ARBOROPOLY - Annual Fundraising Auction
DESCRIPTION: 
URL:https://arborheightsptsa.org/event/auction/
LOCATION:The Hall at Fauntleroy\, 9131 California Avenue SW\, Seattle\, 98136\, United States
ATTACH;FMTTYPE=image/jpeg:https://arborheightsptsa.org/wp-content/uploads/2019/09/Arboropoly_Horiz_04C-scaled.jpg
END:VEVENT
BEGIN:VEVENT
DTSTART;TZID=America/Los_Angeles:20200120T093000
DTEND;TZID=America/Los_Angeles:20200120T150000
DTSTAMP:20260421T194656
CREATED:20200109T184233Z
LAST-MODIFIED:20200109T184233Z
UID:579-1579512600-1579532400@arborheightsptsa.org
SUMMARY:Focus Day
DESCRIPTION:Monday\, January 20\, 2020\nFirst Christian Church\, 701 Franklin St SE\, Olympia \nDuring each year’s legislative session\, Washington State PTA holds its annual Focus Day that brings members together at the state capitol to advocate for the association’s legislative platform. This year we will begin at First Christian Church located at 701 Franklin St SE. \nThe Focus Day program will begin at 9:30 am with an introduction to the day and information focused on the 2020 legislative session and end at 3:00 pm. \nPlease be sure to register and pre-purchase your lunch for the day (lunch must be pre-purchased by January 16). \nMaking Appointments\nIt is important to make appointments with the legislators as far in advance as possible. Input addresses here to get the names of the Representatives and Senator(s) for your school district and their contact information. Members should consult with their local PTA\, council\, or region advocacy chair for assistance in making legislator appointments. Appointments may begin as early as 8:00 am. Due to the limited availability of appointments and the distance traveled\, WSPTA recommends that your first priority be to make an appointment over participating at the church. \nAgenda\n(subject to change) \n\n9:30 am Welcome\n10:00 am Focus on Session 2020\n11:15 am Invited speakers\, including Chris Reykdal at 11:30 am\n11:45 am Pre-purchased lunches handed out\, Q&A session\, and more\n12:15 pm Invited speakers\n2:00 pm Sharing of experiences\n3:00 pm Thank you and travel home safely\n\nMembers are encouraged to come and go from the church throughout the day based on personal appointments with legislators. \nPostcard\nWSPTA has created a postcard that individuals or PTAs can print\, write a personal message\, and then mail or hand-deliver to their legislators. \n\n2020 Focus Day postcard\n\nParking Options\n\nCity of Olympia Downtown Parking Map\nWashington State Capitol Campus Parking Options\nParking and Shuttle Services
URL:https://arborheightsptsa.org/event/focus-day/
LOCATION:First Christian Church\, 701 Franklin St SE\, Olympia\, WA\, 98501\, United States
END:VEVENT
BEGIN:VEVENT
DTSTART;TZID=America/Los_Angeles:20200116T190000
DTEND;TZID=America/Los_Angeles:20200116T203000
DTSTAMP:20260421T194656
CREATED:20190918T222742Z
LAST-MODIFIED:20190918T222742Z
UID:508-1579201200-1579206600@arborheightsptsa.org
SUMMARY:General Meeting
DESCRIPTION:Third and Fourth grades
URL:https://arborheightsptsa.org/event/general-meeting-2/
LOCATION:Arbor Heights Library\, 3701 SW 104th Street\, Seattle\, WA\, 98146\, United States
END:VEVENT
BEGIN:VEVENT
DTSTART;TZID=America/Los_Angeles:20200109T180000
DTEND;TZID=America/Los_Angeles:20200109T200000
DTSTAMP:20260421T194656
CREATED:20200109T182248Z
LAST-MODIFIED:20200109T182248Z
UID:576-1578592800-1578600000@arborheightsptsa.org
SUMMARY:Real Talk
DESCRIPTION:Real Talk Flyer \n 
URL:https://arborheightsptsa.org/event/real-talk/
LOCATION:Arbor Heights Elementary School\, 3701 SW 104th St\, Seattle\, WA\, 98146\, United States
ORGANIZER;CN="Cynthia Granada":MAILTO:cynthiagranada@gmail.com
END:VEVENT
BEGIN:VEVENT
DTSTART;VALUE=DATE:20191205
DTEND;VALUE=DATE:20191206
DTSTAMP:20260421T194656
CREATED:20190918T221517Z
LAST-MODIFIED:20191122T222800Z
UID:498-1575504000-1575590399@arborheightsptsa.org
SUMMARY:Story Night
DESCRIPTION:
URL:https://arborheightsptsa.org/event/story-night/
LOCATION:WA
END:VEVENT
BEGIN:VEVENT
DTSTART;TZID=America/Los_Angeles:20191122T183000
DTEND;TZID=America/Los_Angeles:20191122T200000
DTSTAMP:20260421T194656
CREATED:20191122T183717Z
LAST-MODIFIED:20191122T183717Z
UID:545-1574447400-1574452800@arborheightsptsa.org
SUMMARY:PTA General Meeting (rescheduled from November 21)
DESCRIPTION:The agenda will be the same: \nThis meeting will focus on early literacy home strategies and the Eureka Math program for families with students in grades 1 & 2.  This meeting is a chance to chat with fellow parents in your children’s grade\, ask questions\, and hear from teachers and other parents. We hope this will create connections for our school and community. \nChildcare will be provided too at the meeting on Dec. 12 and we’ll provide a link to sign up in early December.
URL:https://arborheightsptsa.org/event/pta-general-meeting-rescheduled-from-november-21/
LOCATION:WA
END:VEVENT
BEGIN:VEVENT
DTSTART;TZID=America/Los_Angeles:20191121T183000
DTEND;TZID=America/Los_Angeles:20191121T200000
DTSTAMP:20260421T194656
CREATED:20190918T222631Z
LAST-MODIFIED:20191114T185828Z
UID:506-1574361000-1574366400@arborheightsptsa.org
SUMMARY:General Meeting
DESCRIPTION:Literacy and Mathematics Goals and Strategies for Parents  \n1st and 2nd Grades\nPTSA Welcomes 1st & 2nd grade families to the Arbor Heights school library for our second general meeting of the 2019-20 school year! \nThis meeting will focus on early literacy home strategies and the Eureka Math program. We are having fewer meetings this school year to allow focus on certain grade levels and to make it easier for families to attend. This is a chance to chat with fellow parents in your children’s grades\, ask questions\, and hear from teachers and other parents. We hope this will create connections for our school and community.   
URL:https://arborheightsptsa.org/event/general-meeting/
LOCATION:Arbor Heights Library\, 3701 SW 104th Street\, Seattle\, WA\, 98146\, United States
END:VEVENT
BEGIN:VEVENT
DTSTART;VALUE=DATE:20191104
DTEND;VALUE=DATE:20191207
DTSTAMP:20260421T194656
CREATED:20190918T221404Z
LAST-MODIFIED:20190918T221404Z
UID:496-1572825600-1575676799@arborheightsptsa.org
SUMMARY:Direct Drive Fundraiser
DESCRIPTION:
URL:https://arborheightsptsa.org/event/direct-drive-fundraiser/
LOCATION:WA
END:VEVENT
BEGIN:VEVENT
DTSTART;TZID=America/Los_Angeles:20190925T180000
DTEND;TZID=America/Los_Angeles:20190925T200000
DTSTAMP:20260421T194656
CREATED:20190918T223214Z
LAST-MODIFIED:20190918T223214Z
UID:514-1569434400-1569441600@arborheightsptsa.org
SUMMARY:Auction Planning Meeting
DESCRIPTION:
URL:https://arborheightsptsa.org/event/auction-planning-meeting/
LOCATION:Arbor Heights Library\, 3701 SW 104th Street\, Seattle\, WA\, 98146\, United States
END:VEVENT
BEGIN:VEVENT
DTSTART;TZID=America/Los_Angeles:20190924T183000
DTEND;TZID=America/Los_Angeles:20190924T193000
DTSTAMP:20260421T194656
CREATED:20190924T220008Z
LAST-MODIFIED:20190924T220008Z
UID:519-1569349800-1569353400@arborheightsptsa.org
SUMMARY:Open House (formerly "Curriculum Night")
DESCRIPTION:
URL:https://arborheightsptsa.org/event/open-house-formerly-curriculum-night/
LOCATION:Arbor Heights Elementary School\, 3701 SW 104th St\, Seattle\, WA\, 98146\, United States
END:VEVENT
BEGIN:VEVENT
DTSTART;TZID=America/Los_Angeles:20190919T190000
DTEND;TZID=America/Los_Angeles:20190919T203000
DTSTAMP:20260421T194656
CREATED:20190917T212839Z
LAST-MODIFIED:20190917T212839Z
UID:477-1568919600-1568925000@arborheightsptsa.org
SUMMARY:Arbor Heights PTA General Meeting
DESCRIPTION:Pre-K & Kindergarten 101:  Social\, Emotional\, Logistics \nWelcome Pre-K and Kindergarten families to Arbor Heights at our first General PTA meeting of the 2019-20 school year.   \nOur focus for this meeting will be on Pre-K & Kindergarten.  This is a chance to chat with fellow Pre-K and Kindergarten parents\, ask all the questions (e.g. “What happens if my child cries in class?”)\, hear from some Pre-K & Kindergarten teachers and veteran elementary school parents on what to expect this first year\, and hopefully spark a connection of continued support.  \n7:00 p.m. – Call to Order   –   Aaron\, President\nWelcome\, introductions\, brief pitch on PTA \n7:10 p.m. – Questions and Brainstorm Breakout (sticky notes)   –   PTA Board Facilitation \n7:25 p.m. – Reconvene    –  PTA Board Facilitation \n7:25 p.m. – Guest Teachers  (topics pre-arranged) Ms. Gardner & Ms. Amble \n7:55 p.m. – Veteran PTA Parent Q&A\, Sticky Notes Review \n8:15 p.m. – Breakout   –  Group A) Socialize Group B) Brainstorm and self coordinate parents/family social \n8:30 p.m. – Remind about PTA membership \n  Board vote on budget adjustment (stipend allocation for Special Education )  \n 8:45p – Adjourn
URL:https://arborheightsptsa.org/event/arbor-heights-pta-general-meeting/
LOCATION:Arbor Heights Library\, 3701 SW 104th Street\, Seattle\, WA\, 98146\, United States
END:VEVENT
BEGIN:VEVENT
DTSTART;VALUE=DATE:20190918
DTEND;VALUE=DATE:20190919
DTSTAMP:20260421T194656
CREATED:20190918T221623Z
LAST-MODIFIED:20190918T221623Z
UID:500-1568764800-1568851199@arborheightsptsa.org
SUMMARY:Bingo Night
DESCRIPTION:
URL:https://arborheightsptsa.org/event/bingo-night/
LOCATION:WA
END:VEVENT
BEGIN:VEVENT
DTSTART;VALUE=DATE:20190917
DTEND;VALUE=DATE:20190918
DTSTAMP:20260421T194656
CREATED:20190917T215354Z
LAST-MODIFIED:20190917T215354Z
UID:484-1568678400-1568764799@arborheightsptsa.org
SUMMARY:LAST DAY for T-Shirt Orders
DESCRIPTION:Order your Arbor Heights T-shirt NOW or risk missing out on the neighborhood fashion event of the season! \n  \n 
URL:https://arborheightsptsa.org/event/last-day-for-t-shirt-orders/
LOCATION:WA
END:VEVENT
END:VCALENDAR