BEGIN:VCALENDAR
VERSION:2.0
PRODID:-//Arbor Heights PTSA - ECPv6.15.20//NONSGML v1.0//EN
CALSCALE:GREGORIAN
METHOD:PUBLISH
X-WR-CALNAME:Arbor Heights PTSA
X-ORIGINAL-URL:https://arborheightsptsa.org
X-WR-CALDESC:Events for Arbor Heights PTSA
REFRESH-INTERVAL;VALUE=DURATION:PT1H
X-Robots-Tag:noindex
X-PUBLISHED-TTL:PT1H
BEGIN:VTIMEZONE
TZID:America/Los_Angeles
BEGIN:DAYLIGHT
TZOFFSETFROM:-0800
TZOFFSETTO:-0700
TZNAME:PDT
DTSTART:20220313T100000
END:DAYLIGHT
BEGIN:STANDARD
TZOFFSETFROM:-0700
TZOFFSETTO:-0800
TZNAME:PST
DTSTART:20221106T090000
END:STANDARD
BEGIN:DAYLIGHT
TZOFFSETFROM:-0800
TZOFFSETTO:-0700
TZNAME:PDT
DTSTART:20230312T100000
END:DAYLIGHT
BEGIN:STANDARD
TZOFFSETFROM:-0700
TZOFFSETTO:-0800
TZNAME:PST
DTSTART:20231105T090000
END:STANDARD
BEGIN:DAYLIGHT
TZOFFSETFROM:-0800
TZOFFSETTO:-0700
TZNAME:PDT
DTSTART:20240310T100000
END:DAYLIGHT
BEGIN:STANDARD
TZOFFSETFROM:-0700
TZOFFSETTO:-0800
TZNAME:PST
DTSTART:20241103T090000
END:STANDARD
BEGIN:DAYLIGHT
TZOFFSETFROM:-0800
TZOFFSETTO:-0700
TZNAME:PDT
DTSTART:20250309T100000
END:DAYLIGHT
BEGIN:STANDARD
TZOFFSETFROM:-0700
TZOFFSETTO:-0800
TZNAME:PST
DTSTART:20251102T090000
END:STANDARD
END:VTIMEZONE
BEGIN:VEVENT
DTSTART;TZID=America/Los_Angeles:20241107T190000
DTEND;TZID=America/Los_Angeles:20241107T200000
DTSTAMP:20260419T203721
CREATED:20240622T175843Z
LAST-MODIFIED:20240622T175843Z
UID:1754-1731006000-1731009600@arborheightsptsa.org
SUMMARY:Board Meeting | Reunión de la Junta Directiva
DESCRIPTION:
URL:https://arborheightsptsa.org/event/board-meeting-reunion-de-la-junta-directiva-3/
END:VEVENT
BEGIN:VEVENT
DTSTART;TZID=America/Los_Angeles:20241003T190000
DTEND;TZID=America/Los_Angeles:20241003T200000
DTSTAMP:20260419T203721
CREATED:20240622T175800Z
LAST-MODIFIED:20241002T170930Z
UID:1752-1727982000-1727985600@arborheightsptsa.org
SUMMARY:General Meeting | Reunión General
DESCRIPTION:Free childcare provided by the YMCA
URL:https://arborheightsptsa.org/event/board-meeting-reunion-de-la-junta-directiva-2/
LOCATION:Arbor Heights Library\, 3701 SW 104th Street\, Seattle\, WA\, 98146\, United States
END:VEVENT
BEGIN:VEVENT
DTSTART;TZID=America/Los_Angeles:20240905T190000
DTEND;TZID=America/Los_Angeles:20240905T200000
DTSTAMP:20260419T203721
CREATED:20240622T175714Z
LAST-MODIFIED:20240622T175714Z
UID:1750-1725562800-1725566400@arborheightsptsa.org
SUMMARY:Board Meeting | Reunión de la Junta Directiva
DESCRIPTION:
URL:https://arborheightsptsa.org/event/board-meeting-reunion-de-la-junta-directiva/
LOCATION:Virtual\, Via Zoom
END:VEVENT
BEGIN:VEVENT
DTSTART;TZID=America/Los_Angeles:20240518T083000
DTEND;TZID=America/Los_Angeles:20240518T123000
DTSTAMP:20260419T203721
CREATED:20230901T172401Z
LAST-MODIFIED:20230901T172401Z
UID:1446-1716021000-1716035400@arborheightsptsa.org
SUMMARY:Spring Garden Party | Fiesta en el Jardín de Primavera
DESCRIPTION:
URL:https://arborheightsptsa.org/event/spring-garden-party-fiesta-en-el-jardin-de-primavera-2/
LOCATION:Arbor Heights Elementary Garden\, 3701 104th Street SW\, Seattle\, WA\, 98146\, United States
END:VEVENT
BEGIN:VEVENT
DTSTART;TZID=America/Los_Angeles:20240517T080000
DTEND;TZID=America/Los_Angeles:20240517T170000
DTSTAMP:20260419T203721
CREATED:20230803T015251Z
LAST-MODIFIED:20230803T015251Z
UID:1394-1715932800-1715965200@arborheightsptsa.org
SUMMARY:Popcorn Friday | Viernes de Palomitas de Maíz
DESCRIPTION:
URL:https://arborheightsptsa.org/event/popcorn-friday-viernes-de-palomitas-de-maiz-9/
END:VEVENT
BEGIN:VEVENT
DTSTART;TZID=America/Los_Angeles:20240510T180000
DTEND;TZID=America/Los_Angeles:20240510T193000
DTSTAMP:20260419T203721
CREATED:20230904T222114Z
LAST-MODIFIED:20230904T222114Z
UID:1375-1715364000-1715369400@arborheightsptsa.org
SUMMARY:Multicultural Night | Noche Multicultural
DESCRIPTION:
URL:https://arborheightsptsa.org/event/multicultural-night-noche-multicultural/
LOCATION:Arbor Heights Elementary School\, 3701 SW 104th St\, Seattle\, WA\, 98146\, United States
END:VEVENT
BEGIN:VEVENT
DTSTART;TZID=America/Los_Angeles:20240420T180000
DTEND;TZID=America/Los_Angeles:20240420T200000
DTSTAMP:20260419T203721
CREATED:20230811T162615Z
LAST-MODIFIED:20240105T045007Z
UID:1417-1713636000-1713643200@arborheightsptsa.org
SUMMARY:Spring Auction | Subasta de Primavera
DESCRIPTION:
URL:https://arborheightsptsa.org/event/spring-auction-subasta-de-primavera/
END:VEVENT
BEGIN:VEVENT
DTSTART;TZID=America/Los_Angeles:20240420T083000
DTEND;TZID=America/Los_Angeles:20240420T123000
DTSTAMP:20260419T203721
CREATED:20230901T172256Z
LAST-MODIFIED:20230901T172256Z
UID:1444-1713601800-1713616200@arborheightsptsa.org
SUMMARY:Spring Garden Party | Fiesta en el Jardín de Primavera
DESCRIPTION:
URL:https://arborheightsptsa.org/event/spring-garden-party-fiesta-en-el-jardin-de-primavera/
LOCATION:Arbor Heights Elementary Garden\, 3701 104th Street SW\, Seattle\, WA\, 98146\, United States
END:VEVENT
BEGIN:VEVENT
DTSTART;TZID=America/Los_Angeles:20240419T080000
DTEND;TZID=America/Los_Angeles:20240419T170000
DTSTAMP:20260419T203721
CREATED:20230803T015219Z
LAST-MODIFIED:20230803T015219Z
UID:1392-1713513600-1713546000@arborheightsptsa.org
SUMMARY:Popcorn Friday | Viernes de Palomitas de Maíz
DESCRIPTION:
URL:https://arborheightsptsa.org/event/popcorn-friday-viernes-de-palomitas-de-maiz-8/
END:VEVENT
BEGIN:VEVENT
DTSTART;VALUE=DATE:20240408
DTEND;VALUE=DATE:20240413
DTSTAMP:20260419T203721
CREATED:20230803T015405Z
LAST-MODIFIED:20230803T015405Z
UID:1396-1712534400-1712966399@arborheightsptsa.org
SUMMARY:Spring Break | Descanso de Primavera
DESCRIPTION:
URL:https://arborheightsptsa.org/event/spring-break-descanso-de-primavera/
END:VEVENT
BEGIN:VEVENT
DTSTART;TZID=America/Los_Angeles:20240323T093000
DTEND;TZID=America/Los_Angeles:20240323T113000
DTSTAMP:20260419T203721
CREATED:20230901T172119Z
LAST-MODIFIED:20240313T014715Z
UID:1442-1711186200-1711193400@arborheightsptsa.org
SUMMARY:Spring Clean Up Garden Party | Fiesta de Limpieza de Primavera en el Jardín
DESCRIPTION:
URL:https://arborheightsptsa.org/event/spring-clean-up-garden-party-fiesta-de-limpieza-de-primavera-en-el-jardin/
LOCATION:Arbor Heights Elementary Garden\, 3701 104th Street SW\, Seattle\, WA\, 98146\, United States
END:VEVENT
BEGIN:VEVENT
DTSTART;TZID=America/Los_Angeles:20240315T080000
DTEND;TZID=America/Los_Angeles:20240315T170000
DTSTAMP:20260419T203721
CREATED:20230803T014841Z
LAST-MODIFIED:20230803T014841Z
UID:1390-1710489600-1710522000@arborheightsptsa.org
SUMMARY:Popcorn Friday | Viernes de Palomitas de Maíz
DESCRIPTION:
URL:https://arborheightsptsa.org/event/popcorn-friday-viernes-de-palomitas-de-maiz-7/
END:VEVENT
BEGIN:VEVENT
DTSTART;VALUE=DATE:20240219
DTEND;VALUE=DATE:20240224
DTSTAMP:20260419T203721
CREATED:20230803T015537Z
LAST-MODIFIED:20230803T015537Z
UID:1398-1708300800-1708732799@arborheightsptsa.org
SUMMARY:Mid Winter Break | Vacaciones de Invierno
DESCRIPTION:
URL:https://arborheightsptsa.org/event/mid-winter-break-vacaciones-de-invierno/
END:VEVENT
BEGIN:VEVENT
DTSTART;TZID=America/Los_Angeles:20240216T080000
DTEND;TZID=America/Los_Angeles:20240216T170000
DTSTAMP:20260419T203721
CREATED:20230803T014814Z
LAST-MODIFIED:20230803T014814Z
UID:1388-1708070400-1708102800@arborheightsptsa.org
SUMMARY:Popcorn Friday | Viernes de Palomitas de Maíz
DESCRIPTION:
URL:https://arborheightsptsa.org/event/popcorn-friday-viernes-de-palomitas-de-maiz-6/
END:VEVENT
BEGIN:VEVENT
DTSTART;TZID=America/Los_Angeles:20240119T080000
DTEND;TZID=America/Los_Angeles:20240119T170000
DTSTAMP:20260419T203721
CREATED:20230803T014747Z
LAST-MODIFIED:20240105T044847Z
UID:1386-1705651200-1705683600@arborheightsptsa.org
SUMMARY:Popcorn Friday | Viernes de Palomitas de Maíz
DESCRIPTION:Volunteers are needed to help make popcorn Friday a success.  Sign up to volunteer. \n  \n  \n 
URL:https://arborheightsptsa.org/event/popcorn-friday-viernes-de-palomitas-de-maiz-5/
END:VEVENT
BEGIN:VEVENT
DTSTART;VALUE=DATE:20231218
DTEND;VALUE=DATE:20240102
DTSTAMP:20260419T203721
CREATED:20230803T015700Z
LAST-MODIFIED:20230803T015700Z
UID:1400-1702857600-1704153599@arborheightsptsa.org
SUMMARY:Winter Break | Vacaciones de Invierno
DESCRIPTION:
URL:https://arborheightsptsa.org/event/winter-break-vacaciones-de-invierno/
END:VEVENT
BEGIN:VEVENT
DTSTART;TZID=America/Los_Angeles:20231215T080000
DTEND;TZID=America/Los_Angeles:20231215T170000
DTSTAMP:20260419T203721
CREATED:20230803T014713Z
LAST-MODIFIED:20230803T014713Z
UID:1384-1702627200-1702659600@arborheightsptsa.org
SUMMARY:Popcorn Friday | Viernes de Palomitas de Maíz
DESCRIPTION:
URL:https://arborheightsptsa.org/event/popcorn-friday-viernes-de-palomitas-de-maiz-4/
END:VEVENT
BEGIN:VEVENT
DTSTART;TZID=America/Los_Angeles:20231128T080000
DTEND;TZID=America/Los_Angeles:20231128T170000
DTSTAMP:20260419T203721
CREATED:20230803T014230Z
LAST-MODIFIED:20230803T014230Z
UID:1373-1701158400-1701190800@arborheightsptsa.org
SUMMARY:Direct Drive Kick-Off (Giving Tuesday)
DESCRIPTION:
URL:https://arborheightsptsa.org/event/direct-drive-kick-off-giving-tuesday/
END:VEVENT
BEGIN:VEVENT
DTSTART;TZID=America/Los_Angeles:20231120T080000
DTEND;TZID=America/Los_Angeles:20231122T170000
DTSTAMP:20260419T203721
CREATED:20230803T020107Z
LAST-MODIFIED:20230803T020107Z
UID:1402-1700467200-1700672400@arborheightsptsa.org
SUMMARY:Teacher Conferences | Conferencias de Maestros
DESCRIPTION:
URL:https://arborheightsptsa.org/event/teacher-conferences-conferencias-de-maestros/
END:VEVENT
BEGIN:VEVENT
DTSTART;TZID=America/Los_Angeles:20231117T080000
DTEND;TZID=America/Los_Angeles:20231117T170000
DTSTAMP:20260419T203721
CREATED:20230803T014646Z
LAST-MODIFIED:20230803T014646Z
UID:1382-1700208000-1700240400@arborheightsptsa.org
SUMMARY:Popcorn Friday | Viernes de Palomitas de Maíz
DESCRIPTION:
URL:https://arborheightsptsa.org/event/popcorn-friday-viernes-de-palomitas-de-maiz-3/
END:VEVENT
BEGIN:VEVENT
DTSTART;TZID=America/Los_Angeles:20231103T180000
DTEND;TZID=America/Los_Angeles:20231103T193000
DTSTAMP:20260419T203721
CREATED:20230803T012302Z
LAST-MODIFIED:20230803T012302Z
UID:1366-1699034400-1699039800@arborheightsptsa.org
SUMMARY:Harvest Dance | Baile de la Cosecha
DESCRIPTION:
URL:https://arborheightsptsa.org/event/harvest-dance-baile-de-la-cosecha/
LOCATION:Arbor Heights Elementary School\, 3701 SW 104th St\, Seattle\, WA\, 98146\, United States
END:VEVENT
BEGIN:VEVENT
DTSTART;TZID=America/Los_Angeles:20231028T130000
DTEND;TZID=America/Los_Angeles:20231028T160000
DTSTAMP:20260419T203721
CREATED:20230901T171954Z
LAST-MODIFIED:20231025T213808Z
UID:1440-1698498000-1698508800@arborheightsptsa.org
SUMMARY:Fall Garden Party & Community Cider Press | Fiesta en el Jardín de Otoño y Prensa de Sidra Comunitaria
DESCRIPTION:Join us for a cup of hot cider. \nBring your apples to press into cider and take home\, then join in on planting bulbs and painting rocks for a colorful spring. \nVolunteer opportunities available. \n  \nÚnase a nosotros para tomar una taza de sidra caliente. \nTraiga sus manzanas para exprimirlas en sidra y llévelas a casa\, luego únase a plantar bulbos y pintar rocas para una primavera colorida. \n 
URL:https://arborheightsptsa.org/event/fall-garden-party-fiesta-en-el-jardin-de-otono/
LOCATION:Arbor Heights Elementary Garden\, 3701 104th Street SW\, Seattle\, WA\, 98146\, United States
END:VEVENT
BEGIN:VEVENT
DTSTART;TZID=America/Los_Angeles:20231020T080000
DTEND;TZID=America/Los_Angeles:20231020T170000
DTSTAMP:20260419T203721
CREATED:20230803T014613Z
LAST-MODIFIED:20230803T014613Z
UID:1380-1697788800-1697821200@arborheightsptsa.org
SUMMARY:Popcorn Friday | Viernes de Palomitas de Maíz
DESCRIPTION:
URL:https://arborheightsptsa.org/event/popcorn-friday-viernes-de-palomitas-de-maiz-2/
END:VEVENT
BEGIN:VEVENT
DTSTART;TZID=America/Los_Angeles:20231019T190000
DTEND;TZID=America/Los_Angeles:20231019T200000
DTSTAMP:20260419T203721
CREATED:20231010T182731Z
LAST-MODIFIED:20231010T182731Z
UID:1600-1697742000-1697745600@arborheightsptsa.org
SUMMARY:General Meeting | Reunión General
DESCRIPTION:General Membership Meeting – October 19th at 7:00 p.m. via Zoom.  Join us to vote on this year’s Standing Rules and discuss the PTSA’s priorities for the year.  All are welcome to join but only PTSA members will be able to vote.  Become a member. \n\n\nAsamblea General de Socios – 19 de octubre a las 7:00 p.m. vía Zoom. Únase a nosotros para votar sobre las Reglas Permanentes de este año y discutir las prioridades de la PTSA para el año. Todos son bienvenidos a unirse\, pero solo los miembros de la PTSA podrán votar. Hazte miembro. \n\n\n 
URL:https://arborheightsptsa.org/event/general-meeting-reunion-general-3/
LOCATION:Virtual\, Via Zoom
END:VEVENT
BEGIN:VEVENT
DTSTART;TZID=America/Los_Angeles:20230921T180000
DTEND;TZID=America/Los_Angeles:20230921T193000
DTSTAMP:20260419T203721
CREATED:20230803T012115Z
LAST-MODIFIED:20230913T231912Z
UID:1364-1695319200-1695324600@arborheightsptsa.org
SUMMARY:Back to School Ice Cream Social | Regreso a Clases Social de Helados
DESCRIPTION:Join us on the Arbor Heights playground for this free event for the Arbor Heights community.  Please RSVP by September 19th so we know how many families will be in attendence. \nVolunteers “scoopers” are needed.  Please sign up to volunteer here.
URL:https://arborheightsptsa.org/event/back-to-school-barbecue-barbacoa-de-regreso-a-la-escuela/
LOCATION:Arbor Heights Elementary School\, 3701 SW 104th St\, Seattle\, WA\, 98146\, United States
END:VEVENT
BEGIN:VEVENT
DTSTART;TZID=America/Los_Angeles:20230916T083000
DTEND;TZID=America/Los_Angeles:20230916T123000
DTSTAMP:20260419T203721
CREATED:20230901T171724Z
LAST-MODIFIED:20230901T171724Z
UID:1437-1694853000-1694867400@arborheightsptsa.org
SUMMARY:Bulb Garden Party | Fiesta en el Jardín de Bulbos de Flores
DESCRIPTION:
URL:https://arborheightsptsa.org/event/bulb-garden-party-fiesta-en-el-jardin-de-bulbos-de-flores/
LOCATION:Arbor Heights Elementary Garden\, 3701 104th Street SW\, Seattle\, WA\, 98146\, United States
END:VEVENT
BEGIN:VEVENT
DTSTART;TZID=America/Los_Angeles:20230911T080000
DTEND;TZID=America/Los_Angeles:20230911T143000
DTSTAMP:20260419T203721
CREATED:20230803T010519Z
LAST-MODIFIED:20230909T003937Z
UID:1353-1694419200-1694442600@arborheightsptsa.org
SUMMARY:Kindergarten First Day of School | Kindergarten Primer Día de Clases
DESCRIPTION:
URL:https://arborheightsptsa.org/event/kindergarten-welcoming-first-day-of-school-kindergarten-da-la-bienvenida-al-primer-dia-de-clases/
LOCATION:Arbor Heights Elementary School\, 3701 SW 104th St\, Seattle\, WA\, 98146\, United States
END:VEVENT
BEGIN:VEVENT
DTSTART;TZID=America/Los_Angeles:20230906T080000
DTEND;TZID=America/Los_Angeles:20230906T090000
DTSTAMP:20260419T203721
CREATED:20230904T222329Z
LAST-MODIFIED:20230904T222329Z
UID:1342-1693987200-1693990800@arborheightsptsa.org
SUMMARY:Coffee with the Principal and PTSA
DESCRIPTION:
URL:https://arborheightsptsa.org/event/coffee-with-the-principal-and-ptsa/
LOCATION:Arbor Heights Library\, 3701 SW 104th Street\, Seattle\, WA\, 98146\, United States
END:VEVENT
BEGIN:VEVENT
DTSTART;TZID=America/Los_Angeles:20230906T080000
DTEND;TZID=America/Los_Angeles:20230906T090000
DTSTAMP:20260419T203721
CREATED:20230803T010114Z
LAST-MODIFIED:20230803T010114Z
UID:1351-1693987200-1693990800@arborheightsptsa.org
SUMMARY:Parent Welcoming First Day of School | Padres Dando la Bienvenida al Primer Día de Clases
DESCRIPTION:
URL:https://arborheightsptsa.org/event/parent-welcoming-first-day-of-school-padres-dando-la-bienvenida-al-primer-dia-de-clases/
LOCATION:Arbor Heights Elementary School\, 3701 SW 104th St\, Seattle\, WA\, 98146\, United States
END:VEVENT
BEGIN:VEVENT
DTSTART;TZID=America/Los_Angeles:20230824T173000
DTEND;TZID=America/Los_Angeles:20230824T190000
DTSTAMP:20260419T203721
CREATED:20230803T005809Z
LAST-MODIFIED:20230803T005809Z
UID:1349-1692898200-1692903600@arborheightsptsa.org
SUMMARY:Kindergarten Kickoff Dinner | Cena de Inauguración de Jardín de Infantes
DESCRIPTION:
URL:https://arborheightsptsa.org/event/kindergarten-kickoff-dinner-cena-de-inauguracion-de-jardin-de-infantes/
END:VEVENT
END:VCALENDAR