BEGIN:VCALENDAR
VERSION:2.0
PRODID:-//Arbor Heights PTSA - ECPv6.15.20//NONSGML v1.0//EN
CALSCALE:GREGORIAN
METHOD:PUBLISH
X-ORIGINAL-URL:https://arborheightsptsa.org
X-WR-CALDESC:Events for Arbor Heights PTSA
REFRESH-INTERVAL;VALUE=DURATION:PT1H
X-Robots-Tag:noindex
X-PUBLISHED-TTL:PT1H
BEGIN:VTIMEZONE
TZID:America/Los_Angeles
BEGIN:DAYLIGHT
TZOFFSETFROM:-0800
TZOFFSETTO:-0700
TZNAME:PDT
DTSTART:20210314T100000
END:DAYLIGHT
BEGIN:STANDARD
TZOFFSETFROM:-0700
TZOFFSETTO:-0800
TZNAME:PST
DTSTART:20211107T090000
END:STANDARD
BEGIN:DAYLIGHT
TZOFFSETFROM:-0800
TZOFFSETTO:-0700
TZNAME:PDT
DTSTART:20220313T100000
END:DAYLIGHT
BEGIN:STANDARD
TZOFFSETFROM:-0700
TZOFFSETTO:-0800
TZNAME:PST
DTSTART:20221106T090000
END:STANDARD
BEGIN:DAYLIGHT
TZOFFSETFROM:-0800
TZOFFSETTO:-0700
TZNAME:PDT
DTSTART:20230312T100000
END:DAYLIGHT
BEGIN:STANDARD
TZOFFSETFROM:-0700
TZOFFSETTO:-0800
TZNAME:PST
DTSTART:20231105T090000
END:STANDARD
BEGIN:DAYLIGHT
TZOFFSETFROM:-0800
TZOFFSETTO:-0700
TZNAME:PDT
DTSTART:20240310T100000
END:DAYLIGHT
BEGIN:STANDARD
TZOFFSETFROM:-0700
TZOFFSETTO:-0800
TZNAME:PST
DTSTART:20241103T090000
END:STANDARD
END:VTIMEZONE
BEGIN:VEVENT
DTSTART;TZID=America/Los_Angeles:20231103T180000
DTEND;TZID=America/Los_Angeles:20231103T193000
DTSTAMP:20260420T075303
CREATED:20230803T012302Z
LAST-MODIFIED:20230803T012302Z
UID:1366-1699034400-1699039800@arborheightsptsa.org
SUMMARY:Harvest Dance | Baile de la Cosecha
DESCRIPTION:
URL:https://arborheightsptsa.org/event/harvest-dance-baile-de-la-cosecha/
LOCATION:Arbor Heights Elementary School\, 3701 SW 104th St\, Seattle\, WA\, 98146\, United States
END:VEVENT
BEGIN:VEVENT
DTSTART;TZID=America/Los_Angeles:20231028T130000
DTEND;TZID=America/Los_Angeles:20231028T160000
DTSTAMP:20260420T075303
CREATED:20230901T171954Z
LAST-MODIFIED:20231025T213808Z
UID:1440-1698498000-1698508800@arborheightsptsa.org
SUMMARY:Fall Garden Party & Community Cider Press | Fiesta en el Jardín de Otoño y Prensa de Sidra Comunitaria
DESCRIPTION:Join us for a cup of hot cider. \nBring your apples to press into cider and take home\, then join in on planting bulbs and painting rocks for a colorful spring. \nVolunteer opportunities available. \n  \nÚnase a nosotros para tomar una taza de sidra caliente. \nTraiga sus manzanas para exprimirlas en sidra y llévelas a casa\, luego únase a plantar bulbos y pintar rocas para una primavera colorida. \n 
URL:https://arborheightsptsa.org/event/fall-garden-party-fiesta-en-el-jardin-de-otono/
LOCATION:Arbor Heights Elementary Garden\, 3701 104th Street SW\, Seattle\, WA\, 98146\, United States
END:VEVENT
BEGIN:VEVENT
DTSTART;TZID=America/Los_Angeles:20231020T080000
DTEND;TZID=America/Los_Angeles:20231020T170000
DTSTAMP:20260420T075303
CREATED:20230803T014613Z
LAST-MODIFIED:20230803T014613Z
UID:1380-1697788800-1697821200@arborheightsptsa.org
SUMMARY:Popcorn Friday | Viernes de Palomitas de Maíz
DESCRIPTION:
URL:https://arborheightsptsa.org/event/popcorn-friday-viernes-de-palomitas-de-maiz-2/
END:VEVENT
BEGIN:VEVENT
DTSTART;TZID=America/Los_Angeles:20231019T190000
DTEND;TZID=America/Los_Angeles:20231019T200000
DTSTAMP:20260420T075303
CREATED:20231010T182731Z
LAST-MODIFIED:20231010T182731Z
UID:1600-1697742000-1697745600@arborheightsptsa.org
SUMMARY:General Meeting | Reunión General
DESCRIPTION:General Membership Meeting – October 19th at 7:00 p.m. via Zoom.  Join us to vote on this year’s Standing Rules and discuss the PTSA’s priorities for the year.  All are welcome to join but only PTSA members will be able to vote.  Become a member. \n\n\nAsamblea General de Socios – 19 de octubre a las 7:00 p.m. vía Zoom. Únase a nosotros para votar sobre las Reglas Permanentes de este año y discutir las prioridades de la PTSA para el año. Todos son bienvenidos a unirse\, pero solo los miembros de la PTSA podrán votar. Hazte miembro. \n\n\n 
URL:https://arborheightsptsa.org/event/general-meeting-reunion-general-3/
LOCATION:Virtual\, Via Zoom
END:VEVENT
BEGIN:VEVENT
DTSTART;TZID=America/Los_Angeles:20230921T180000
DTEND;TZID=America/Los_Angeles:20230921T193000
DTSTAMP:20260420T075303
CREATED:20230803T012115Z
LAST-MODIFIED:20230913T231912Z
UID:1364-1695319200-1695324600@arborheightsptsa.org
SUMMARY:Back to School Ice Cream Social | Regreso a Clases Social de Helados
DESCRIPTION:Join us on the Arbor Heights playground for this free event for the Arbor Heights community.  Please RSVP by September 19th so we know how many families will be in attendence. \nVolunteers “scoopers” are needed.  Please sign up to volunteer here.
URL:https://arborheightsptsa.org/event/back-to-school-barbecue-barbacoa-de-regreso-a-la-escuela/
LOCATION:Arbor Heights Elementary School\, 3701 SW 104th St\, Seattle\, WA\, 98146\, United States
END:VEVENT
BEGIN:VEVENT
DTSTART;TZID=America/Los_Angeles:20230916T083000
DTEND;TZID=America/Los_Angeles:20230916T123000
DTSTAMP:20260420T075303
CREATED:20230901T171724Z
LAST-MODIFIED:20230901T171724Z
UID:1437-1694853000-1694867400@arborheightsptsa.org
SUMMARY:Bulb Garden Party | Fiesta en el Jardín de Bulbos de Flores
DESCRIPTION:
URL:https://arborheightsptsa.org/event/bulb-garden-party-fiesta-en-el-jardin-de-bulbos-de-flores/
LOCATION:Arbor Heights Elementary Garden\, 3701 104th Street SW\, Seattle\, WA\, 98146\, United States
END:VEVENT
BEGIN:VEVENT
DTSTART;TZID=America/Los_Angeles:20230911T080000
DTEND;TZID=America/Los_Angeles:20230911T143000
DTSTAMP:20260420T075303
CREATED:20230803T010519Z
LAST-MODIFIED:20230909T003937Z
UID:1353-1694419200-1694442600@arborheightsptsa.org
SUMMARY:Kindergarten First Day of School | Kindergarten Primer Día de Clases
DESCRIPTION:
URL:https://arborheightsptsa.org/event/kindergarten-welcoming-first-day-of-school-kindergarten-da-la-bienvenida-al-primer-dia-de-clases/
LOCATION:Arbor Heights Elementary School\, 3701 SW 104th St\, Seattle\, WA\, 98146\, United States
END:VEVENT
BEGIN:VEVENT
DTSTART;TZID=America/Los_Angeles:20230906T080000
DTEND;TZID=America/Los_Angeles:20230906T090000
DTSTAMP:20260420T075303
CREATED:20230904T222329Z
LAST-MODIFIED:20230904T222329Z
UID:1342-1693987200-1693990800@arborheightsptsa.org
SUMMARY:Coffee with the Principal and PTSA
DESCRIPTION:
URL:https://arborheightsptsa.org/event/coffee-with-the-principal-and-ptsa/
LOCATION:Arbor Heights Library\, 3701 SW 104th Street\, Seattle\, WA\, 98146\, United States
END:VEVENT
BEGIN:VEVENT
DTSTART;TZID=America/Los_Angeles:20230906T080000
DTEND;TZID=America/Los_Angeles:20230906T090000
DTSTAMP:20260420T075303
CREATED:20230803T010114Z
LAST-MODIFIED:20230803T010114Z
UID:1351-1693987200-1693990800@arborheightsptsa.org
SUMMARY:Parent Welcoming First Day of School | Padres Dando la Bienvenida al Primer Día de Clases
DESCRIPTION:
URL:https://arborheightsptsa.org/event/parent-welcoming-first-day-of-school-padres-dando-la-bienvenida-al-primer-dia-de-clases/
LOCATION:Arbor Heights Elementary School\, 3701 SW 104th St\, Seattle\, WA\, 98146\, United States
END:VEVENT
BEGIN:VEVENT
DTSTART;TZID=America/Los_Angeles:20230824T173000
DTEND;TZID=America/Los_Angeles:20230824T190000
DTSTAMP:20260420T075303
CREATED:20230803T005809Z
LAST-MODIFIED:20230803T005809Z
UID:1349-1692898200-1692903600@arborheightsptsa.org
SUMMARY:Kindergarten Kickoff Dinner | Cena de Inauguración de Jardín de Infantes
DESCRIPTION:
URL:https://arborheightsptsa.org/event/kindergarten-kickoff-dinner-cena-de-inauguracion-de-jardin-de-infantes/
END:VEVENT
BEGIN:VEVENT
DTSTART;TZID=America/Los_Angeles:20230519T080000
DTEND;TZID=America/Los_Angeles:20230519T090000
DTSTAMP:20260420T075303
CREATED:20230511T044126Z
LAST-MODIFIED:20230511T044126Z
UID:1345-1684483200-1684486800@arborheightsptsa.org
SUMMARY:Coffee with the PTSA
DESCRIPTION:Join us on Friday\, May 19\, 2023 at 8:00 a.m. at the Arbor Heights Library for an opportunity to have a frank discussion about the areas where the PTSA could use your support\, and to learn more about the various ways in which you can contribute to our efforts\, Your input and involvement are invaluable as we plan for the upcoming school year.
URL:https://arborheightsptsa.org/event/coffee-with-the-ptsa/
END:VEVENT
BEGIN:VEVENT
DTSTART;TZID=America/Los_Angeles:20230518T190000
DTEND;TZID=America/Los_Angeles:20230518T200000
DTSTAMP:20260420T075303
CREATED:20230511T043256Z
LAST-MODIFIED:20230511T044005Z
UID:1337-1684436400-1684440000@arborheightsptsa.org
SUMMARY:General Meeting | Reunión General
DESCRIPTION:Join us for our May General Meeting\, as we will be voting on multiple topics critical to next school year.  In addition to voting on next year’s board\, we will be voting to approve the 2023/2024 PTSA budget.  This meeting will take place at the Arbor Heights Library or virtually.  Join us to cast your vote or even just to learn more about next year’s priorities.  You can preview the proposed budget here. \nIf you are interested in getting involved in the PTSA\, we are currently looking to fill the following positions: \n– Vice President \n– Co-Secretary \n– Membership Chair \n– Co-Auction Chairs \n– Co-Communication Chair \n– Gardening Chair \nMore information regarding these position can be found here. Please reach out to AHPTABoardInfo@gmail.com or attend this meeting if you are interested in taking on one of these roles. \nThis meeting will take please both in person at the Arbor Heights Library and virtually.  The link to this meeting will go out via School Messenger a day prior.
URL:https://arborheightsptsa.org/event/1337/
LOCATION:Arbor Heights Library\, 3701 SW 104th Street\, Seattle\, WA\, 98146\, United States
END:VEVENT
BEGIN:VEVENT
DTSTART;TZID=America/Los_Angeles:20230504T190000
DTEND;TZID=America/Los_Angeles:20230504T203000
DTSTAMP:20260420T075303
CREATED:20221020T012418Z
LAST-MODIFIED:20221020T012418Z
UID:1213-1683226800-1683232200@arborheightsptsa.org
SUMMARY:Board Meeting | Reunión de la Junta
DESCRIPTION:
URL:https://arborheightsptsa.org/event/board-meeting-reunion-de-la-junta-6/
END:VEVENT
BEGIN:VEVENT
DTSTART;TZID=America/Los_Angeles:20230429T180000
DTEND;TZID=America/Los_Angeles:20230429T220000
DTSTAMP:20260420T075303
CREATED:20220909T151642Z
LAST-MODIFIED:20221012T041532Z
UID:1080-1682791200-1682805600@arborheightsptsa.org
SUMMARY:Arbor Heights Auction | Subasta de Arbor Heights
DESCRIPTION:
URL:https://arborheightsptsa.org/event/arbor-heights-auction-arboropoly/
END:VEVENT
BEGIN:VEVENT
DTSTART;TZID=America/Los_Angeles:20230406T190000
DTEND;TZID=America/Los_Angeles:20230406T203000
DTSTAMP:20260420T075303
CREATED:20221020T012344Z
LAST-MODIFIED:20221020T012344Z
UID:1211-1680807600-1680813000@arborheightsptsa.org
SUMMARY:Board Meeting | Reunión de la Junta
DESCRIPTION:
URL:https://arborheightsptsa.org/event/board-meeting-reunion-de-la-junta-5/
END:VEVENT
BEGIN:VEVENT
DTSTART;TZID=America/Los_Angeles:20230316T190000
DTEND;TZID=America/Los_Angeles:20230316T203000
DTSTAMP:20260420T075303
CREATED:20230315T205532Z
LAST-MODIFIED:20230315T205532Z
UID:1326-1678993200-1678998600@arborheightsptsa.org
SUMMARY:PTSA General Meeting
DESCRIPTION:Calling all families!! \nWE NEED YOU: Attend Thursday’s virtual general PTSA meeting to vote on next year’s budget.  Due to significant SPS budget cuts\, the school needs our help funding staff roles for the 2023-2024 school year – or we will lose some of our specialists and their vial programming.  Please attend Thursday’s general assembly meeting to: \n\nHear how the impending budget cuts impact our school and how families responded to the budget survey\nUnderstand what Arbor Heights Elementary staff is asking the PTSA for\nShare your voice on if and how best to meet the school’s funding needs\nVote on a path forward\n\nWe must vote Thursday to provide the school with a response by their 3/21 SPS deadline. \nPlease join us.  A Zoom link will follow via school messenger.
URL:https://arborheightsptsa.org/event/ptsa-general-meeting-11/
END:VEVENT
BEGIN:VEVENT
DTSTART;TZID=America/Los_Angeles:20230302T190000
DTEND;TZID=America/Los_Angeles:20230302T203000
DTSTAMP:20260420T075303
CREATED:20221020T012311Z
LAST-MODIFIED:20221020T012311Z
UID:1209-1677783600-1677789000@arborheightsptsa.org
SUMMARY:Board Meeting | Reunión de la Junta
DESCRIPTION:
URL:https://arborheightsptsa.org/event/board-meeting-reunion-de-la-junta-4/
END:VEVENT
BEGIN:VEVENT
DTSTART;TZID=America/Los_Angeles:20230216T190000
DTEND;TZID=America/Los_Angeles:20230216T200000
DTSTAMP:20260420T075303
CREATED:20230213T162024Z
LAST-MODIFIED:20230215T162419Z
UID:1314-1676574000-1676577600@arborheightsptsa.org
SUMMARY:CANCELLED - General Meeting | Reunión General
DESCRIPTION:This event has been cancelled.  There will be no February General Meeting. \n  \nThe February General Meeting will discuss Islandwood (aka 5th-grade camp). Ms. Nall will be the special guest speaker. If you’ve got a 5th grader\, you’ll definitely want to make this one! Look for an email beforehand on how to join the meeting.
URL:https://arborheightsptsa.org/event/general-meeting-reunion-general-2/
END:VEVENT
BEGIN:VEVENT
DTSTART;TZID=America/Los_Angeles:20230211T090000
DTEND;TZID=America/Los_Angeles:20230211T110000
DTSTAMP:20260420T075303
CREATED:20230128T185340Z
LAST-MODIFIED:20230128T185340Z
UID:1280-1676106000-1676113200@arborheightsptsa.org
SUMMARY:PJs & Pancakes with the PTSA | PJs y panqueques con el PTSA
DESCRIPTION:Mark your calendars for PJs & Pancakes with the PTSA on Saturday\, February 11 from 9-11 a.m.  Special guest readers!  Free to attend! Tasty toppings!  RSVP to follow. \n  \nMarque sus calendarios para PJs & Pancakes con la PTSA el sábado 11 de febrero de 9 a 11 a. m. ¡Lectores invitados especiales! Gratis para asistir! ¡Coberturas sabrosas! RSVP para seguir. \n 
URL:https://arborheightsptsa.org/event/pjs-pancakes-with-the-ptsa-pjs-y-panqueques-con-el-ptsa/
END:VEVENT
BEGIN:VEVENT
DTSTART;TZID=America/Los_Angeles:20230202T190000
DTEND;TZID=America/Los_Angeles:20230202T203000
DTSTAMP:20260420T075303
CREATED:20221020T012235Z
LAST-MODIFIED:20221020T012235Z
UID:1207-1675364400-1675369800@arborheightsptsa.org
SUMMARY:Board Meeting | Reunión de la Junta
DESCRIPTION:
URL:https://arborheightsptsa.org/event/board-meeting-reunion-de-la-junta-3/
END:VEVENT
BEGIN:VEVENT
DTSTART;TZID=America/Los_Angeles:20230119T190000
DTEND;TZID=America/Los_Angeles:20230119T200000
DTSTAMP:20260420T075303
CREATED:20230112T005428Z
LAST-MODIFIED:20230112T005428Z
UID:1273-1674154800-1674158400@arborheightsptsa.org
SUMMARY:General Meeting | Reunión General
DESCRIPTION:Join us on January 19\, 2023\, for our monthly General Meeting where we discuss Social Emotional learning.  Kai Kunkle\, Social Emotional Learning Coordinator\, will present on the social emotional curriculum used by Seattle Public Schools.  At the heart of Kai’s work is a drive to help families connect and communicate.  She is a mom of two and loves nothing more than a kitchen dance party with her crew. \n\n\n  \n\n\nA link to the general meeting will be sent via school messenger in advance of the meeting. \nÚnase a nosotros el 19 de enero de 2023 para nuestra reunión general mensual donde discutimos el aprendizaje socioemocional. Kai Kunkle\, Coordinador de Aprendizaje Socioemocional\, presentará el plan de estudios socioemocional utilizado por las Escuelas Públicas de Seattle. En el corazón del trabajo de Kai hay un impulso para ayudar a las familias a conectarse y comunicarse. Es madre de dos hijos y no hay nada que le guste más que una fiesta de baile en la cocina con su equipo. \nSe enviará un enlace a la reunión general a través del mensajero de la escuela antes de la reunión. \n\n 
URL:https://arborheightsptsa.org/event/general-meeting-reunion-general/
END:VEVENT
BEGIN:VEVENT
DTSTART;TZID=America/Los_Angeles:20230105T190000
DTEND;TZID=America/Los_Angeles:20230105T203000
DTSTAMP:20260420T075303
CREATED:20221020T012153Z
LAST-MODIFIED:20221020T012153Z
UID:1205-1672945200-1672950600@arborheightsptsa.org
SUMMARY:Board Meeting | Reunión de la Junta
DESCRIPTION:
URL:https://arborheightsptsa.org/event/board-meeting-reunion-de-la-junta-2/
END:VEVENT
BEGIN:VEVENT
DTSTART;TZID=America/Los_Angeles:20221219T080000
DTEND;TZID=America/Los_Angeles:20221230T170000
DTSTAMP:20260420T075303
CREATED:20221020T011718Z
LAST-MODIFIED:20221020T011718Z
UID:1199-1671436800-1672419600@arborheightsptsa.org
SUMMARY:Winter Break (No School) | Vacaciones de Invierno (No Hay Clases)
DESCRIPTION:
URL:https://arborheightsptsa.org/event/winter-break-no-school-vacaciones-de-invierno-no-hay-clases/
END:VEVENT
BEGIN:VEVENT
DTSTART;TZID=America/Los_Angeles:20221216T080000
DTEND;TZID=America/Los_Angeles:20221216T170000
DTSTAMP:20260420T075303
CREATED:20221020T011230Z
LAST-MODIFIED:20221020T011303Z
UID:1194-1671177600-1671210000@arborheightsptsa.org
SUMMARY:Early Dismissal (1 hour early) | Salida Temprana
DESCRIPTION:
URL:https://arborheightsptsa.org/event/early-dismissal-1-hour-early/
END:VEVENT
BEGIN:VEVENT
DTSTART;TZID=America/Los_Angeles:20221215T190000
DTEND;TZID=America/Los_Angeles:20221215T200000
DTSTAMP:20260420T075303
CREATED:20221208T010043Z
LAST-MODIFIED:20221208T010043Z
UID:1258-1671130800-1671134400@arborheightsptsa.org
SUMMARY:PTSA Virtual Game Night | Noche de juegos virtuales de PTSA
DESCRIPTION:Join Us December 15th at 7 p.m.\, PST. \nCheers to a wonderful school year and a happy new year! Join us for a virtual family trivia night during our December general meeting on Thursday\, 12/15 at 7pm. (Link to follow via School Messenger.) \n¡Saludos a un maravilloso año escolar y un feliz año nuevo! Únase a nosotros para una noche de trivia familiar virtual durante nuestra reunión general de diciembre el jueves 15/12 a las 7 p.m. (Enlace para seguir a través de School Messenger). \n 
URL:https://arborheightsptsa.org/event/ptsa-virtual-game-night-noche-de-juegos-virtuales-de-ptsa/
END:VEVENT
BEGIN:VEVENT
DTSTART;TZID=America/Los_Angeles:20221201T190000
DTEND;TZID=America/Los_Angeles:20221201T203000
DTSTAMP:20260420T075303
CREATED:20221020T012116Z
LAST-MODIFIED:20221020T012116Z
UID:1203-1669921200-1669926600@arborheightsptsa.org
SUMMARY:Board Meeting | Reunión de la Junta
DESCRIPTION:
URL:https://arborheightsptsa.org/event/board-meeting-reunion-de-la-junta/
END:VEVENT
BEGIN:VEVENT
DTSTART;TZID=America/Los_Angeles:20221121T080000
DTEND;TZID=America/Los_Angeles:20221123T170000
DTSTAMP:20260420T075303
CREATED:20221020T011136Z
LAST-MODIFIED:20221020T011934Z
UID:1192-1669017600-1669222800@arborheightsptsa.org
SUMMARY:Elementary Conference Days (No School) | Días de Conferences de Primaria (No Hay Clases)
DESCRIPTION:
URL:https://arborheightsptsa.org/event/elementary-conference-days-no-school/
END:VEVENT
BEGIN:VEVENT
DTSTART;TZID=America/Los_Angeles:20221117T190000
DTEND;TZID=America/Los_Angeles:20221117T200000
DTSTAMP:20260420T075303
CREATED:20221010T015217Z
LAST-MODIFIED:20221114T022523Z
UID:1166-1668711600-1668715200@arborheightsptsa.org
SUMMARY:General Meeting | Reunión General
DESCRIPTION:Join us on November 17th as we host Minion Kim\, a trainer from Savvas Learning to discuss the new K-12 envision math curriculum.  The main content of the presentation will be how to connect family engagement to student learning at home.  We will go over the home-school connection\, online practice with guided help\, bounce pages\, visual learning animations\, and another look video support. \nThe Zoom link will be provided to current school families in advance of the meeting via School Messenger. \nMore about Minion Kim: “I am an education consultant from Savvas.  I will be working with Seattle School Teachers and students in 2022-2023 for the successful implementation of envision math.  I am also a mom of two boys and understand how important it is for you to know envision resources so that you can support your children at home.  I am looking forward to meeting with you.” \nÚnase a nosotros el 17 de noviembre cuando recibamos a Minion Kim\, un entrenador de Savvas Learning para discutir el nuevo plan de estudios de matemáticas de K-12. El contenido principal de la presentación será cómo conectar la participación familiar con el aprendizaje de los estudiantes en el hogar. Repasaremos la conexión entre el hogar y la escuela\, la práctica en línea con ayuda guiada\, páginas de rebote\, animaciones de aprendizaje visual y otro soporte de video. \nEl enlace Zoom se proporcionará a las familias escolares actuales antes de la reunión a través de School Messenger. \nMás sobre Minion Kim: “Soy consultora educativa de Savvas. Trabajaré con los maestros y estudiantes de la escuela Seattle en 2022-2023 para la implementación exitosa de envision math. También soy madre de dos niños y entiendo lo importante que es para que sepa\, visualice los recursos para que pueda apoyar a sus hijos en el hogar. Espero reunirme con usted”. \n 
URL:https://arborheightsptsa.org/event/general-meeting-5/
END:VEVENT
BEGIN:VEVENT
DTSTART;TZID=America/Los_Angeles:20221111T080000
DTEND;TZID=America/Los_Angeles:20221111T170000
DTSTAMP:20260420T075303
CREATED:20221020T011037Z
LAST-MODIFIED:20221020T011417Z
UID:1190-1668153600-1668186000@arborheightsptsa.org
SUMMARY:Veterans Day (No School) | Dia de la Veteranas (No hay clases)
DESCRIPTION:
URL:https://arborheightsptsa.org/event/veterans-day-no-school/
END:VEVENT
BEGIN:VEVENT
DTSTART;TZID=America/Los_Angeles:20221104T183000
DTEND;TZID=America/Los_Angeles:20221104T200000
DTSTAMP:20260420T075303
CREATED:20221010T014754Z
LAST-MODIFIED:20221020T011903Z
UID:1162-1667586600-1667592000@arborheightsptsa.org
SUMMARY:Harvest Dance | Baile de la Cosecha
DESCRIPTION:Join us for our annual Harvest Dance on November 4\, 2022. \nCome eat pizza and dance the night away with an incredible D.J. \nOpen to all Arbor Heights Families. \nHarvest Dance November 4\, 2022 at 6:00 p.m. \n  \nÚnase a nosotros para nuestro Baile de la Cosecha anual el 4 de Noviembre de 2022. \nVen a comer pizza y bailar toda la noche con un increíble D.J. \nAbierto a todas las familias de Arbor Heights. \nBaile de la Cosecha | Viernes\, 4 de Noviembre de 2022 a las 18:30 \n 
URL:https://arborheightsptsa.org/event/fall-dance/
LOCATION:Arbor Heights Elementary School\, 3701 SW 104th St\, Seattle\, WA\, 98146\, United States
END:VEVENT
END:VCALENDAR