BEGIN:VCALENDAR
VERSION:2.0
PRODID:-//Arbor Heights PTSA - ECPv6.15.20//NONSGML v1.0//EN
CALSCALE:GREGORIAN
METHOD:PUBLISH
X-ORIGINAL-URL:https://arborheightsptsa.org
X-WR-CALDESC:Events for Arbor Heights PTSA
REFRESH-INTERVAL;VALUE=DURATION:PT1H
X-Robots-Tag:noindex
X-PUBLISHED-TTL:PT1H
BEGIN:VTIMEZONE
TZID:America/Los_Angeles
BEGIN:DAYLIGHT
TZOFFSETFROM:-0800
TZOFFSETTO:-0700
TZNAME:PDT
DTSTART:20200308T100000
END:DAYLIGHT
BEGIN:STANDARD
TZOFFSETFROM:-0700
TZOFFSETTO:-0800
TZNAME:PST
DTSTART:20201101T090000
END:STANDARD
BEGIN:DAYLIGHT
TZOFFSETFROM:-0800
TZOFFSETTO:-0700
TZNAME:PDT
DTSTART:20210314T100000
END:DAYLIGHT
BEGIN:STANDARD
TZOFFSETFROM:-0700
TZOFFSETTO:-0800
TZNAME:PST
DTSTART:20211107T090000
END:STANDARD
BEGIN:DAYLIGHT
TZOFFSETFROM:-0800
TZOFFSETTO:-0700
TZNAME:PDT
DTSTART:20220313T100000
END:DAYLIGHT
BEGIN:STANDARD
TZOFFSETFROM:-0700
TZOFFSETTO:-0800
TZNAME:PST
DTSTART:20221106T090000
END:STANDARD
BEGIN:DAYLIGHT
TZOFFSETFROM:-0800
TZOFFSETTO:-0700
TZNAME:PDT
DTSTART:20230312T100000
END:DAYLIGHT
BEGIN:STANDARD
TZOFFSETFROM:-0700
TZOFFSETTO:-0800
TZNAME:PST
DTSTART:20231105T090000
END:STANDARD
END:VTIMEZONE
BEGIN:VEVENT
DTSTART;TZID=America/Los_Angeles:20221103T190000
DTEND;TZID=America/Los_Angeles:20221103T200000
DTSTAMP:20260420T234949
CREATED:20221010T015125Z
LAST-MODIFIED:20221012T041355Z
UID:1164-1667502000-1667505600@arborheightsptsa.org
SUMMARY:Board Meeting | Reunión de la Junta
DESCRIPTION:The board meeting will take place in person and by Zoom.
URL:https://arborheightsptsa.org/event/board-meeting-2/
LOCATION:WA
END:VEVENT
BEGIN:VEVENT
DTSTART;TZID=America/Los_Angeles:20221020T164500
DTEND;TZID=America/Los_Angeles:20221020T193000
DTSTAMP:20260420T234949
CREATED:20221012T035056Z
LAST-MODIFIED:20221012T041122Z
UID:1171-1666284300-1666294200@arborheightsptsa.org
SUMMARY:Curriculum Night | Noche de Currículo
DESCRIPTION:Arbor Heights will be hosting an in-person Curriculum Nights for families on October 20\, 2022. \nPreschool: 4:45-5:15 p.m. \nGrades K-2: 5:30-6:15 p.m. \nEveryone (in the cafeteria): 6:15-6:45 p.m. \n\nCurriculum preview and specialist\, counselor\, assistant principal\, principal introductions\nMaterials: New Math curriculum – Envision\, ELA\, SEL\, Amplify Science\, and more\n\nGrades 3-5: 6:45-7:30 p.m. \nCurriculum Night is an adults-only event.  No childcare is available. \n  \nArbor Heights organizará Noches de currículo en persona para familias el 20 de Octubre de 2022. \nPreescolar: 4:45-5:15 p. m. \nGrados K-2: 5:30-6:15 p.m. \nTodos (en la cafetería): 6:15-6:45 p.m. \nVista previa del plan de estudios y presentación de especialistas\, consejeros\, subdirectores y directores\nMateriales: Nuevo plan de estudios de Matemáticas: Envision\, ELA\, SEL\, Amplify Science y más \nGrados 3-5: 6:45-7:30 p.m. \nCurriculum Night es un evento solo para adultos. No hay cuidado de niños disponible. \n 
URL:https://arborheightsptsa.org/event/curriculum-night/
LOCATION:Arbor Heights Elementary School\, 3701 SW 104th St\, Seattle\, WA\, 98146\, United States
END:VEVENT
BEGIN:VEVENT
DTSTART;TZID=America/Los_Angeles:20221006T190000
DTEND;TZID=America/Los_Angeles:20221006T203000
DTSTAMP:20260420T234949
CREATED:20220923T130953Z
LAST-MODIFIED:20220923T130953Z
UID:1102-1665082800-1665088200@arborheightsptsa.org
SUMMARY:PTSA Board Meeting
DESCRIPTION:
URL:https://arborheightsptsa.org/event/ptsa-board-meeting-11/
LOCATION:WA
END:VEVENT
BEGIN:VEVENT
DTSTART;TZID=America/Los_Angeles:20220922T200000
DTEND;TZID=America/Los_Angeles:20220922T210000
DTSTAMP:20260420T234949
CREATED:20220909T031006Z
LAST-MODIFIED:20220916T020632Z
UID:1078-1663876800-1663880400@arborheightsptsa.org
SUMMARY:General Meeting - In Person and Virtual
DESCRIPTION:Join us in person or virtually for our first general meeting of the year \nUnfortunately we’re not able to offer childcare for this first planning meeting\, but you will have the option to join virtually. Zoom dial-in details will be emailed to families on 9/21/22. \n 
URL:https://arborheightsptsa.org/event/general-meeting-in-person-and-virtual/
LOCATION:Arbor Heights Elementary School\, 3701 SW 104th St\, Seattle\, WA\, 98146\, United States
END:VEVENT
BEGIN:VEVENT
DTSTART;TZID=America/Los_Angeles:20220922T180000
DTEND;TZID=America/Los_Angeles:20220922T200000
DTSTAMP:20260420T234949
CREATED:20220909T030826Z
LAST-MODIFIED:20220916T020510Z
UID:1076-1663869600-1663876800@arborheightsptsa.org
SUMMARY:Back to School Ice Cream Social
DESCRIPTION:  \nJoin us for a back-to-school ice cream social!\nThursday\, September 22 | 6–8pm | Arbor Heights Elementary playground\nGrab a sweet treat and kick off the new school year with the Arbor Heights Elementary community. Say hello to friends old and new\, then join us in the cafeteria at 8pm for the first general PTSA meeting* of the school year. \nThis free event—hosted by the Arbor Heights PTSA and your principal team\, Christy Collins and Darren Frink—is open to our entire school community. Children must be supervised\, please. Non-dairy dessert options will be available. Enter the playground on 104th. \nQuestions? Contact ahptaboardinfo@gmail.com. \n*Unfortunately we’re not able to offer childcare for this first planning meeting\, but you will have the option to join virtually. Zoom dial-in details will be emailed to families on 9/21/22.
URL:https://arborheightsptsa.org/event/back-to-school-ice-cream-social/
LOCATION:Arbor Heights Elementary School\, 3701 SW 104th St\, Seattle\, WA\, 98146\, United States
END:VEVENT
BEGIN:VEVENT
DTSTART;TZID=America/Los_Angeles:20220907T075000
DTEND;TZID=America/Los_Angeles:20220907T142500
DTSTAMP:20260420T234949
CREATED:20220811T160916Z
LAST-MODIFIED:20220811T160916Z
UID:1050-1662537000-1662560700@arborheightsptsa.org
SUMMARY:First Day of School (1st-12th Grades)
DESCRIPTION:
URL:https://arborheightsptsa.org/event/first-day-of-school-1st-12th-grades/
LOCATION:WA
END:VEVENT
BEGIN:VEVENT
DTSTART;TZID=America/Los_Angeles:20220519T190000
DTEND;TZID=America/Los_Angeles:20220519T203000
DTSTAMP:20260420T234949
CREATED:20220421T043130Z
LAST-MODIFIED:20220421T043130Z
UID:1038-1652986800-1652992200@arborheightsptsa.org
SUMMARY:PTSA General Meeting - Virtual
DESCRIPTION:We will be electing our Executive Board for the 2022/2023 school year. \nZoom link will be sent via School Messenger the day before the meeting.
URL:https://arborheightsptsa.org/event/ptsa-general-meeting-virtual-4/
LOCATION:WA
END:VEVENT
BEGIN:VEVENT
DTSTART;TZID=America/Los_Angeles:20220505T190000
DTEND;TZID=America/Los_Angeles:20220505T203000
DTSTAMP:20260420T234949
CREATED:20220421T043005Z
LAST-MODIFIED:20220421T043005Z
UID:1036-1651777200-1651782600@arborheightsptsa.org
SUMMARY:PTSA Board Meeting - Virtual
DESCRIPTION:
URL:https://arborheightsptsa.org/event/ptsa-board-meeting-virtual-3/
LOCATION:WA
END:VEVENT
BEGIN:VEVENT
DTSTART;TZID=America/Los_Angeles:20220429T190000
DTEND;TZID=America/Los_Angeles:20220429T220000
DTSTAMP:20260420T234949
CREATED:20220123T230643Z
LAST-MODIFIED:20220123T230643Z
UID:988-1651258800-1651269600@arborheightsptsa.org
SUMMARY:PTSA Spring Auction
DESCRIPTION:Save the Date for the Spring 2022 Auction at the Hall at Fauntleroy. More details to come.
URL:https://arborheightsptsa.org/event/ptsa-spring-auction/
LOCATION:WA
END:VEVENT
BEGIN:VEVENT
DTSTART;TZID=America/Los_Angeles:20220422T100000
DTEND;TZID=America/Los_Angeles:20220427T100000
DTSTAMP:20260420T234949
CREATED:20220421T043512Z
LAST-MODIFIED:20220421T043512Z
UID:1041-1650621600-1651053600@arborheightsptsa.org
SUMMARY:Arbor Heights Online Auction and Pre-Bidding Event
DESCRIPTION:Can’t make the Arbor Heights Auction next week?  No problem!\n\nArbor Heights Online Auction and Pre-Bidding Event Starts Friday\, April 22\, 2022 and runs through midnight on April 27\, 2022. \nBid on select auction items OR pre-bid on classroom projects/baskets and compete against those attending the live event.  The highest bidder during the pre-bidding event will be the starting bid during the live event.  Should your online bid be the highest\, you will be notified once tables close on the night of the event!\n\nwww.ah-auction.com
URL:https://arborheightsptsa.org/event/arbor-heights-online-auction-and-pre-bidding-event/
LOCATION:WA
END:VEVENT
BEGIN:VEVENT
DTSTART;TZID=America/Los_Angeles:20220421T190000
DTEND;TZID=America/Los_Angeles:20220421T203000
DTSTAMP:20260420T234949
CREATED:20220421T042832Z
LAST-MODIFIED:20220421T042832Z
UID:1034-1650567600-1650573000@arborheightsptsa.org
SUMMARY:PTSA General Meeting - Virtual
DESCRIPTION:Zoom Link will be sent via School Messenger the Day before the meeting. \nWe will be discussing the budget for the 2022/2023 school year
URL:https://arborheightsptsa.org/event/ptsa-general-meeting-virtual-3/
LOCATION:WA
END:VEVENT
BEGIN:VEVENT
DTSTART;TZID=America/Los_Angeles:20220317T190000
DTEND;TZID=America/Los_Angeles:20220317T203000
DTSTAMP:20260420T234949
CREATED:20220124T025208Z
LAST-MODIFIED:20220124T025208Z
UID:999-1647543600-1647549000@arborheightsptsa.org
SUMMARY:PTSA General Meeting - Virtual
DESCRIPTION:Details to be provided
URL:https://arborheightsptsa.org/event/ptsa-general-meeting-virtual-2/
LOCATION:WA
END:VEVENT
BEGIN:VEVENT
DTSTART;TZID=America/Los_Angeles:20220303T190000
DTEND;TZID=America/Los_Angeles:20220303T203000
DTSTAMP:20260420T234949
CREATED:20220124T025113Z
LAST-MODIFIED:20220124T025113Z
UID:997-1646334000-1646339400@arborheightsptsa.org
SUMMARY:PTSA Board Meeting
DESCRIPTION:
URL:https://arborheightsptsa.org/event/ptsa-board-meeting-10/
LOCATION:WA
END:VEVENT
BEGIN:VEVENT
DTSTART;TZID=America/Los_Angeles:20220217T190000
DTEND;TZID=America/Los_Angeles:20220217T203000
DTSTAMP:20260420T234949
CREATED:20220124T025013Z
LAST-MODIFIED:20220124T025013Z
UID:995-1645124400-1645129800@arborheightsptsa.org
SUMMARY:PTSA General Meeting - Virtual
DESCRIPTION:Detail to Follow
URL:https://arborheightsptsa.org/event/ptsa-general-meeting-virtual/
LOCATION:WA
END:VEVENT
BEGIN:VEVENT
DTSTART;TZID=America/Los_Angeles:20220203T190000
DTEND;TZID=America/Los_Angeles:20220203T203000
DTSTAMP:20260420T234949
CREATED:20220124T024847Z
LAST-MODIFIED:20220124T024847Z
UID:993-1643914800-1643920200@arborheightsptsa.org
SUMMARY:PTSA Board Meeting
DESCRIPTION:
URL:https://arborheightsptsa.org/event/ptsa-board-meeting-9/
LOCATION:WA
END:VEVENT
BEGIN:VEVENT
DTSTART;TZID=America/Los_Angeles:20220127T190000
DTEND;TZID=America/Los_Angeles:20220127T203000
DTSTAMP:20260420T234949
CREATED:20220124T024705Z
LAST-MODIFIED:20220124T024705Z
UID:991-1643310000-1643315400@arborheightsptsa.org
SUMMARY:Arbor Heights PTSA Auction Meeting
DESCRIPTION:Procurement is already underway but we need your help to make this event successful. \nPlease join us virtually on Thursday\, January 27\, 2022 at 7 p.m. for a auction planning meeting.  Contact Desiree Loughlin at desiree.loughlin@gmail.com if you would like to attend. \n 
URL:https://arborheightsptsa.org/event/arbor-heights-ptsa-auction-meeting/
LOCATION:WA
END:VEVENT
BEGIN:VEVENT
DTSTART;TZID=America/Los_Angeles:20220120T190000
DTEND;TZID=America/Los_Angeles:20220120T203000
DTSTAMP:20260420T234949
CREATED:20211231T170905Z
LAST-MODIFIED:20211231T172504Z
UID:981-1642705200-1642710600@arborheightsptsa.org
SUMMARY:PTSA General Meeting
DESCRIPTION:Join us for our virtual PTSA General Meeting which will include guest speaker Andrea Diamond from Genesee Hill to tell us about the West Seattle Public School Equity Fund. \nZoom link will be sent via School Messenger the day before the meeting.
URL:https://arborheightsptsa.org/event/ptsa-general-meeting-10/
LOCATION:WA
END:VEVENT
BEGIN:VEVENT
DTSTART;TZID=America/Los_Angeles:20220106T190000
DTEND;TZID=America/Los_Angeles:20220106T203000
DTSTAMP:20260420T234949
CREATED:20211231T170807Z
LAST-MODIFIED:20211231T170807Z
UID:979-1641495600-1641501000@arborheightsptsa.org
SUMMARY:PTSA Board Meeting
DESCRIPTION:Virtual.  If you wish to join\, please email ahptboardinfo@gmail.com for a calendar invitation.
URL:https://arborheightsptsa.org/event/ptsa-board-meeting-8/
LOCATION:WA
END:VEVENT
BEGIN:VEVENT
DTSTART;TZID=America/Los_Angeles:20211202T190000
DTEND;TZID=America/Los_Angeles:20211202T203000
DTSTAMP:20260420T234949
CREATED:20211007T204246Z
LAST-MODIFIED:20211007T204246Z
UID:920-1638471600-1638477000@arborheightsptsa.org
SUMMARY:PTSA Board Meeting
DESCRIPTION:Virtual.  If you wish to join\, please email ahptboardinfo@gmail.com for a calendar invitation.
URL:https://arborheightsptsa.org/event/ptsa-board-meeting-7/
LOCATION:WA
END:VEVENT
BEGIN:VEVENT
DTSTART;TZID=America/Los_Angeles:20211118T190000
DTEND;TZID=America/Los_Angeles:20211118T203000
DTSTAMP:20260420T234949
CREATED:20211007T204130Z
LAST-MODIFIED:20211007T204130Z
UID:918-1637262000-1637267400@arborheightsptsa.org
SUMMARY:PTSA General Meeting
DESCRIPTION:Virtual.  A Zoom link will be sent via School Messenger the day before the meeting.
URL:https://arborheightsptsa.org/event/ptsa-general-meeting-9/
LOCATION:WA
END:VEVENT
BEGIN:VEVENT
DTSTART;TZID=America/Los_Angeles:20211104T190000
DTEND;TZID=America/Los_Angeles:20211104T203000
DTSTAMP:20260420T234949
CREATED:20211007T204019Z
LAST-MODIFIED:20211007T204019Z
UID:916-1636052400-1636057800@arborheightsptsa.org
SUMMARY:PTSA Board Meeting
DESCRIPTION:Virtual. If you to attend this meeting\, please email ahptaboardinfor@gmail.com for a calendar invitation.
URL:https://arborheightsptsa.org/event/ptsa-board-meeting-6/
LOCATION:WA
END:VEVENT
BEGIN:VEVENT
DTSTART;TZID=America/Los_Angeles:20211021T190000
DTEND;TZID=America/Los_Angeles:20211021T203000
DTSTAMP:20260420T234949
CREATED:20211007T203804Z
LAST-MODIFIED:20211007T203804Z
UID:914-1634842800-1634848200@arborheightsptsa.org
SUMMARY:PTSA General Meeting
DESCRIPTION:Join us for our virtual PTSA General Meeting. \nZoom link will be sent via School Messenger the day before the meeting.
URL:https://arborheightsptsa.org/event/ptsa-general-meeting-8/
LOCATION:WA
END:VEVENT
BEGIN:VEVENT
DTSTART;TZID=America/Los_Angeles:20211007T190000
DTEND;TZID=America/Los_Angeles:20211007T203000
DTSTAMP:20260420T234949
CREATED:20211007T203542Z
LAST-MODIFIED:20211007T203542Z
UID:912-1633633200-1633638600@arborheightsptsa.org
SUMMARY:PTSA Board Meeting
DESCRIPTION:Virtual
URL:https://arborheightsptsa.org/event/ptsa-board-meeting-5/
LOCATION:WA
END:VEVENT
BEGIN:VEVENT
DTSTART;TZID=America/Los_Angeles:20210915T180000
DTEND;TZID=America/Los_Angeles:20210915T200000
DTSTAMP:20260420T234949
CREATED:20210902T183943Z
LAST-MODIFIED:20210903T202854Z
UID:841-1631728800-1631736000@arborheightsptsa.org
SUMMARY:Popsicles In The Park - South Lawn of Lincoln Park
DESCRIPTION:Meet with fellow JR Seahawks\, parents\, and the PTSA as we welcome the 2021-2022 school year. \nMask up please and respect social distancing so we can safely celebrate the start of the school year.  Popsicles will be handed out as you leave the event. \nSouth Lawn of Lincoln Park. \n  \n 
URL:https://arborheightsptsa.org/event/popsicles-in-the-park-south-lawn-of-lincoln-park/
LOCATION:WA
ATTACH;FMTTYPE=image/jpeg:https://arborheightsptsa.org/wp-content/uploads/2021/09/Popsicles-in-the-Park-Flyer-3-2-1.jpg
END:VEVENT
BEGIN:VEVENT
DTSTART;TZID=America/Los_Angeles:20210520T190000
DTEND;TZID=America/Los_Angeles:20210520T203000
DTSTAMP:20260420T234949
CREATED:20210428T021248Z
LAST-MODIFIED:20210428T021248Z
UID:771-1621537200-1621542600@arborheightsptsa.org
SUMMARY:PTSA General Meeting
DESCRIPTION:Virtual \nJoin us as we will be voting on Executive Board positions (President\, Vice President\, Co-Treasurers\, and Co-Secretaries).  A few of our Executive Board members have reached their two year term limit\, so we’re actively looking for interested candidates. \nCurrent Executive Board opportunities include: \nTreasurer 1 \nCo-Secretary (2 positions) \nBeyond the elected positions\, we also want to highlight our appointed Board positions.  As an organization driven by volunteers\, it takes a village to deliver on all of the things the PTSA wants to do.  We’re excited to be back in the building and getting back to investing in and building up our community.  With big ideas in mind\, we are also looking for individuals who may be interested in either an appointed position or co-chairing a position.  Appointed positions include:\n•    Communications\n•    Direct Drive Coordinator\n•    Diversity & Inclusion\n•    Events\n•    Fundraising\n•    Hawkeye Coordinator\n•    Legislative Representative\n•    Membership\n•    Legislative \nWe are also searching for Co-Auction Chairs to help with the Arbor Heights 2022 Auction. \nWe recognize everyone has hectic lives\, so our goal is to make participation in the Board accessible.  We’re happy to talk more about the responsibilities of the various positions.  If you are interested or have any questions\, please reach out to ahptaboardinfo@gmail.com. \n 
URL:https://arborheightsptsa.org/event/ptsa-general-meeting-7/
LOCATION:WA
END:VEVENT
BEGIN:VEVENT
DTSTART;TZID=America/Los_Angeles:20210506T190000
DTEND;TZID=America/Los_Angeles:20210506T203000
DTSTAMP:20260420T234949
CREATED:20210428T020242Z
LAST-MODIFIED:20210428T020242Z
UID:769-1620327600-1620333000@arborheightsptsa.org
SUMMARY:PTSA Board Meeting
DESCRIPTION:Virtual \nJoin us May 6\, 2021 to learn more about the PTSA and how we support the Arbor Heights Elementary community. \nZoom link will be sent via School Messenger the day before the meeting. \nHope to see you there!
URL:https://arborheightsptsa.org/event/ptsa-board-meeting-4/
LOCATION:WA
END:VEVENT
BEGIN:VEVENT
DTSTART;TZID=America/Los_Angeles:20210422T190000
DTEND;TZID=America/Los_Angeles:20210422T203000
DTSTAMP:20260420T234949
CREATED:20210130T190536Z
LAST-MODIFIED:20210130T190536Z
UID:745-1619118000-1619123400@arborheightsptsa.org
SUMMARY:PTSA General Meeting
DESCRIPTION:Virtual.  Zoom details will be sent via School Messenger the day before the meeting.
URL:https://arborheightsptsa.org/event/ptsa-general-meeting-6/
LOCATION:WA
END:VEVENT
BEGIN:VEVENT
DTSTART;TZID=America/Los_Angeles:20210408T190000
DTEND;TZID=America/Los_Angeles:20210408T203000
DTSTAMP:20260420T234949
CREATED:20210130T190434Z
LAST-MODIFIED:20210130T190434Z
UID:743-1617908400-1617913800@arborheightsptsa.org
SUMMARY:PTSA Board Meeting
DESCRIPTION:Virtual
URL:https://arborheightsptsa.org/event/ptsa-board-meeting-3/
LOCATION:WA
END:VEVENT
BEGIN:VEVENT
DTSTART;TZID=America/Los_Angeles:20210318T190000
DTEND;TZID=America/Los_Angeles:20210318T203000
DTSTAMP:20260420T234949
CREATED:20210130T190341Z
LAST-MODIFIED:20210315T193944Z
UID:741-1616094000-1616099400@arborheightsptsa.org
SUMMARY:PTSA Trivia Night!
DESCRIPTION:TRIVIA NIGHT! Join the PTSA this Thursday for fun and casual virtual trivia night in place of this month’s general meeting (7–8:30 p.m. via Zoom). Play as a team or play solo — RSVP to reserve your spot by Wednesday.
URL:https://arborheightsptsa.org/event/ptsa-general-meeting-5/
LOCATION:WA
END:VEVENT
BEGIN:VEVENT
DTSTART;TZID=America/Los_Angeles:20210304T190000
DTEND;TZID=America/Los_Angeles:20210304T203000
DTSTAMP:20260420T234949
CREATED:20210130T190233Z
LAST-MODIFIED:20210130T190233Z
UID:738-1614884400-1614889800@arborheightsptsa.org
SUMMARY:PTSA Board Meeting
DESCRIPTION:Virtual
URL:https://arborheightsptsa.org/event/ptsa-board-meeting-2/
LOCATION:WA
END:VEVENT
END:VCALENDAR